BEGIN:VCALENDAR
VERSION:2.0
PRODID:-//Podiumkerkje Grevenbicht - ECPv6.15.20//NONSGML v1.0//EN
CALSCALE:GREGORIAN
METHOD:PUBLISH
X-WR-CALNAME:Podiumkerkje Grevenbicht
X-ORIGINAL-URL:https://podiumkerkje.nl
X-WR-CALDESC:Evenementen voor Podiumkerkje Grevenbicht
REFRESH-INTERVAL;VALUE=DURATION:PT1H
X-Robots-Tag:noindex
X-PUBLISHED-TTL:PT1H
BEGIN:VTIMEZONE
TZID:Europe/Paris
BEGIN:DAYLIGHT
TZOFFSETFROM:+0100
TZOFFSETTO:+0200
TZNAME:CEST
DTSTART:20250330T010000
END:DAYLIGHT
BEGIN:STANDARD
TZOFFSETFROM:+0200
TZOFFSETTO:+0100
TZNAME:CET
DTSTART:20251026T010000
END:STANDARD
BEGIN:DAYLIGHT
TZOFFSETFROM:+0100
TZOFFSETTO:+0200
TZNAME:CEST
DTSTART:20260329T010000
END:DAYLIGHT
BEGIN:STANDARD
TZOFFSETFROM:+0200
TZOFFSETTO:+0100
TZNAME:CET
DTSTART:20261025T010000
END:STANDARD
BEGIN:DAYLIGHT
TZOFFSETFROM:+0100
TZOFFSETTO:+0200
TZNAME:CEST
DTSTART:20270328T010000
END:DAYLIGHT
BEGIN:STANDARD
TZOFFSETFROM:+0200
TZOFFSETTO:+0100
TZNAME:CET
DTSTART:20271031T010000
END:STANDARD
END:VTIMEZONE
BEGIN:VEVENT
DTSTART;TZID=Europe/Paris:20260307T193000
DTEND;TZID=Europe/Paris:20260307T213000
DTSTAMP:20260423T215246
CREATED:20260103T171825Z
LAST-MODIFIED:20260104T101007Z
UID:4083-1772911800-1772919000@podiumkerkje.nl
SUMMARY:Hanneke Scheffers
DESCRIPTION:Nous sommes de retour ! C’est avec grand plaisir que nous vous présentons : Soirée de chansons mémorable(s): Le tour d’amour! \n\n\n\nNa de zeer succesvolle voorstelling in najaar 2024 in ons/het prachtige Podiumkerkje\, kunt u op 7 maart 2026 uw hart weer ophalen aan de prachtige vertolkingen van zangeres Hanneke Scheffers. En dat hart speelt een belangrijke rol deze voorstelling\, want de derde editie van de Soirée de chansons mémorable(s) staat volledig in het teken van de liefde… \n\n\n\nIngrediënten van de avond: muziek van grote namen zoals Françoise Hardy en Barbara\, afgewisseld met verborgen pareltjes van minder bekende chansonniers\, sfeervolle accordeonklanken en prachtige poëzie. In deze derde editie wordt Hanneke op het podium opnieuw vergezeld door pianiste Anneke van der Weerd\, gitarist\, zanger en voormalig Frans docent Luc Buise\, Vocalgroup Logo uit Eijsden en zangeres-in-de-dop Lieke Scheffers. \n\n\n\nSluit uw ogen\, open uw hart en laat u meevoeren door de melodieën van prachtige chansons over het enige wat er in het leven écht toe doet: l’amour! \n\n\n\nPraktische informatie \n\n\n\nHet kerkje is geopend vanaf 19:00uur\, het concert start om 19:30uur. Parkeren kan in de omringende straten\, hou echter rekening met het vinden van een geschikte parkeerplek en de bewoners. Vooraf\, tijdens de pauze en achteraf kunt u een drankje bestellen aan de bar. Betalingen kunnen contant en per pin. \n\n\n\nUw entreekaart wordt bij binnenkomst gecontroleerd. U kunt deze geprint meenemen\, maar bij voorkeur toont u het ticket op uw telefoon. Zorg voor een voldoende opgeladen accu. \n\n\n\nKlik op deze link: BESTEL HIER UW TICKET
URL:https://podiumkerkje.nl/concert/hanneke-scheffers/
LOCATION:Podiumkerkje Grevenbicht\, Heilig Kruisstraat 30\, Grevenbicht\, 6127 CD
CATEGORIES:Muziek
ATTACH;FMTTYPE=image/jpeg:https://podiumkerkje.nl/wp-content/uploads/2026/01/Hanneke-Scheffers.jpg
END:VEVENT
BEGIN:VEVENT
DTSTART;TZID=Europe/Paris:20260321T193000
DTEND;TZID=Europe/Paris:20260321T213000
DTSTAMP:20260423T215246
CREATED:20260104T083738Z
LAST-MODIFIED:20260312T152051Z
UID:4098-1774121400-1774128600@podiumkerkje.nl
SUMMARY:Jodymoon
DESCRIPTION:Het Maastrichtse duo Jodymoon presenteerde met de release van hun album The Machine (2025) hun nieuwe sound. Geïnspireerd door een drumcomputer en de herontdekte elektrische gitaar krijgt het vertrouwde Jodymoon geluid op dit achtste studio album een catchy urban twist. “Een gedurfde stap voor Jodymoon die volledig slaagt – The Machineis vernieuwend en meeslepend…”\, schrijft muziekplatform De Alternatieve Muziekman in hun 4-sterren recensie. Ook live valt ‘Jodymoon nieuwe stijl’ in de smaak. Check de lovende reviews\, de Jodymoon The Machine Live(trailer) en……. nieuwe tourdata. \n\n\n\nModerne kijk op singer-songwriter sound \n\n\n\nDigna Janssen en Johan Smeets zochten na het uitbrengen van hun live-album in 2023 naar nieuwe muzikale ideeën. Die vonden ze toen Johan een oude drummachine uit de kast haalde en daarmee ging spelen. Het nummer The Machine ontstond en is ook meteen het titelnummer van de nieuwe plaat en de nieuwe tour geworden. “The Machine is het eerste Jodymoon nummer waarop een drummachine is gebruikt”\, zegt Digna. “We wilden een moderne kijk op het singer-songwriter geluid creëren maar het hart van onze liedjes bewaren en dat is denk ik gelukt.” Ook de elektrische gitaar werd herontdekt en neemt een prominente plaats in op het nieuwe album. Check singles  The Machine\, Seconds Tick en Still Running.  \n\n\n\nVernieuwing en verfrissing \n\n\n\nRode draad op The Machine is hoe we ons bewegen naar een door kunstmatige intelligentie en algoritmes gereguleerde samenleving. We worden steeds afhankelijker van apparaten en computers. Leveren we hiermee onze kennis en kunde\, het ambacht in? Willen we niet eigenlijk terug naar de basis\, de natuur en de menselijkheid? En\, kunnen we wel terug? Rond dit thema hebben Digna en Johan tien inspirerende songs geschreven en opgenomen\, in de studio voor het eerst in de geschiedenis van Jodymoon bijgestaan door … een machine! Jodymoon kiest met de frisse urban-pop-folk op The Machine voor vernieuwing maar blijft doen wat we al die jaren van hen gewend zijn: pakkende songs schrijven en op een bevlogen manier uitvoeren. \n\n\n\nJodymoon \n\n\n\nJodymoon werd in 2006 opgericht door zangeres/pianiste Digna Janssen en multi-instrumentalist Johan Smeets. De twee wonnen in 2008 met hun mix van folk\, pop en roots de publieksprijs van de Grote Prijs van Nederland. Jodymoon heeft sindsdien zeven studioalbums uitgebracht\, die zonder uitzondering lovende recensies kregen. Eind 2023 bracht het duo het dubbelalbum ‘The Best of Live 2013-2023’ uit met live opnames van de afgelopen tien jaar\, opgenomen tijdens concerten in onder meer Amsterdam\, Bilbao\, Hamburg\, Heerlen\, Keulen en thuisstad Maastricht. The Machine (maart 2025) is hun achtste studioalbum.  \n\n\n\nwww.jodymoon.com | Facebook | Spotify | Instagram \n\n\n\nKijk en luister: \n\n\n\nJodymoon The Machine Live (trailer 0.55) \n\n\n\nJodymoon The Machine Live (trailer 2.56) \n\n\n\nJodymoon The Machine Live (compilation 8.30) \n\n\n\nPraktische informatie \n\n\n\nHet kerkje is geopend vanaf 19:00uur\, het concert start om 19:30uur. Parkeren kan in de omringende straten\, hou echter rekening met het vinden van een geschikte parkeerplek en de bewoners. Vooraf\, tijdens de pauze en achteraf kunt u een drankje bestellen aan de bar. Betalingen kunnen contant en per pin. \n\n\n\nUw entreekaart wordt bij binnenkomst gecontroleerd. U kunt deze geprint meenemen\, maar bij voorkeur toont u het ticket op uw telefoon. Zorg voor een voldoende opgeladen accu. \n\n\n\nKlik op deze link: BESTEL HIER UW TICKET
URL:https://podiumkerkje.nl/concert/jodymoon/
LOCATION:Podiumkerkje Grevenbicht\, Heilig Kruisstraat 30\, Grevenbicht\, 6127 CD
CATEGORIES:Muziek
ATTACH;FMTTYPE=image/jpeg:https://podiumkerkje.nl/wp-content/uploads/2026/01/Jodymoon-The-Machine2.jpg
END:VEVENT
END:VCALENDAR